BEGIN:VCALENDAR
VERSION:2.0
PRODID:-//Vale Arvoredo - ECPv5.16.3//NONSGML v1.0//EN
CALSCALE:GREGORIAN
METHOD:PUBLISH
X-ORIGINAL-URL:https://valearvoredo.com.br
X-WR-CALDESC:Events for Vale Arvoredo
REFRESH-INTERVAL;VALUE=DURATION:PT1H
X-Robots-Tag:noindex
X-PUBLISHED-TTL:PT1H
BEGIN:VTIMEZONE
TZID:America/Sao_Paulo
BEGIN:STANDARD
TZOFFSETFROM:-0300
TZOFFSETTO:-0300
TZNAME:-03
DTSTART:20230101T000000
END:STANDARD
END:VTIMEZONE
BEGIN:VEVENT
DTSTART;VALUE=DATE:20230301
DTEND;VALUE=DATE:20230302
DTSTAMP:20260419T110619
CREATED:20221208T154903Z
LAST-MODIFIED:20221208T154913Z
UID:379-1677628800-1677715199@valearvoredo.com.br
SUMMARY:Convocatória de residências de artistas
DESCRIPTION:Com intuito de desenvolver e aproximar a prática contemporânea entre artistas de várias origens\, Iberescena e o espaço de residência artística Vale Arvoredo estão unindo forças para oferecer duas modalidades de residência artística. A primeira modalidade é a Imersão Presencial\, com foco na pesquisa e criação para artistas profissionais latino-americanos/as. Nesta modalidade os/as artistas selecionados ficaram no Brasil\, na cidade de Morro Reuter\, Rio Grande do Sul. A segunda modalidade é a Imersão Virtual\, com foco na formação e compartilhamento para artistas profissionais\, estudantes\, e professores/as de artes brasileiros/as. Nesta modalidade\, os encontros ocorreram em plataforma on-line.
URL:https://valearvoredo.com.br/evento/convocatoria-de-residencias-de-artistas/
LOCATION:Vale Arvoredo\, Estr. São José Santa Maria do Herval\, 2-2140\, Morro Reuter\, Rio Grande do Sul\, 93990-000\, Brasil
CATEGORIES:Verão
ATTACH;FMTTYPE=image/jpeg:https://valearvoredo.com.br/wp-content/uploads/iberescena.jpg
END:VEVENT
BEGIN:VEVENT
DTSTART;VALUE=DATE:20230608
DTEND;VALUE=DATE:20230609
DTSTAMP:20260419T110619
CREATED:20221208T154954Z
LAST-MODIFIED:20221208T154954Z
UID:381-1686182400-1686268799@valearvoredo.com.br
SUMMARY:Residências de artistas
DESCRIPTION:Com intuito de desenvolver e aproximar a prática contemporânea entre artistas de várias origens\, Iberescena e o espaço de residência artística Vale Arvoredo estão unindo forças para oferecer duas modalidades de residência artística. A primeira modalidade é a Imersão Presencial\, com foco na pesquisa e criação para artistas profissionais latino-americanos/as. Nesta modalidade os/as artistas selecionados ficaram no Brasil\, na cidade de Morro Reuter\, Rio Grande do Sul. A segunda modalidade é a Imersão Virtual\, com foco na formação e compartilhamento para artistas profissionais\, estudantes\, e professores/as de artes brasileiros/as. Nesta modalidade\, os encontros ocorreram em plataforma on-line.
URL:https://valearvoredo.com.br/evento/residencias-de-artistas/
LOCATION:Vale Arvoredo\, Estr. São José Santa Maria do Herval\, 2-2140\, Morro Reuter\, Rio Grande do Sul\, 93990-000\, Brasil
CATEGORIES:Inverno
ATTACH;FMTTYPE=image/jpeg:https://valearvoredo.com.br/wp-content/uploads/iberescena.jpg
END:VEVENT
BEGIN:VEVENT
DTSTART;VALUE=DATE:20230817
DTEND;VALUE=DATE:20230818
DTSTAMP:20260419T110619
CREATED:20221208T142628Z
LAST-MODIFIED:20221208T144107Z
UID:366-1692230400-1692316799@valearvoredo.com.br
SUMMARY:Convocatória de residências de artistas de Iberescena
DESCRIPTION:Com intuito de desenvolver e aproximar a prática contemporânea entre artistas de várias origens\, Iberescena e o espaço de residência artística Vale Arvoredo estão unindo forças para oferecer duas modalidades de residência artística. A primeira modalidade é a Imersão Presencial\, com foco na pesquisa e criação para artistas profissionais latino-americanos/as. Nesta modalidade os/as artistas selecionados ficaram no Brasil\, na cidade de Morro Reuter\, Rio Grande do Sul. A segunda modalidade é a Imersão Virtual\, com foco na formação e compartilhamento para artistas profissionais\, estudantes\, e professores/as de artes brasileiros/as. Nesta modalidade\, os encontros ocorreram em plataforma on-line.
URL:https://valearvoredo.com.br/evento/convocatoria-de-residencias-de-artistas-de-iberescena/
LOCATION:Vale Arvoredo\, Estr. São José Santa Maria do Herval\, 2-2140\, Morro Reuter\, Rio Grande do Sul\, 93990-000\, Brasil
CATEGORIES:Inverno
ATTACH;FMTTYPE=image/jpeg:https://valearvoredo.com.br/wp-content/uploads/iberescena.jpg
END:VEVENT
END:VCALENDAR